BEGIN:VCALENDAR
VERSION:2.0
PRODID:-//Desarrollo Personal-Conecta con tu esencia. Formación en kinesiología - ECPv6.15.20//NONSGML v1.0//EN
CALSCALE:GREGORIAN
METHOD:PUBLISH
X-WR-CALNAME:Desarrollo Personal-Conecta con tu esencia. Formación en kinesiología
X-ORIGINAL-URL:https://kineseryesencia.com
X-WR-CALDESC:Eventos para Desarrollo Personal-Conecta con tu esencia. Formación en kinesiología
REFRESH-INTERVAL;VALUE=DURATION:PT1H
X-Robots-Tag:noindex
X-PUBLISHED-TTL:PT1H
BEGIN:VTIMEZONE
TZID:UTC
BEGIN:STANDARD
TZOFFSETFROM:+0000
TZOFFSETTO:+0000
TZNAME:UTC
DTSTART:20240101T000000
END:STANDARD
END:VTIMEZONE
BEGIN:VEVENT
DTSTART;TZID=UTC:20250918T093000
DTEND;TZID=UTC:20250921T190000
DTSTAMP:20260419T182110
CREATED:20250202T125513Z
LAST-MODIFIED:20250822T144731Z
UID:17509-1758187800-1758481200@kineseryesencia.com
SUMMARY:Transformando Memorias del ADN
DESCRIPTION:Transformando Memorias del ADN				\n				\n					\n		\n					\n		\n				\n						\n					\n			\n						\n				\n									«Transformación de recuerdos de ADN en ZETA  y DELTA» guía a los participantes a combinar el arte del seguimiento de los músculos para poder acceder a la memoria consciente y así poder ir más allá de las ondas cerebrales más profundas de Theta y Delta para activar el cambio. Se aplica un protocolo para descubrir el tiempo de la «causa» guardado profundamente en el ADN (modelo de tu historia genética)\, memorias celulares que tiene capacidad de crear malos hábitos y los patrones de comportamiento y las creencias. Sin limitaciones\, eres libre para crear caminos hacia el objetivo escogido\, las relaciones y los deseos. La transformación de recuerdos de ADN en ZETA y DELTA es un camino hacia la toma de consciencia.Curso escrito por Sylvia Marina. Acreditado por: el IKC (International Kinesiology College)\, Requisitos: Ninguno Horas lectivas (teoría + práctica): 32  Si eres kinesiólogo Instructor de Toque para la Salud\, este curso te sirve como update reconocido por el IKC. 								\n				\n					\n		\n					\n		\n				\n						\n					\n			\n						\n				\n									\n					\n						\n									Me inscribo
URL:https://kineseryesencia.com/event/transformando-memorias-del-adn/
LOCATION:On line y presencial\, Spain
CATEGORIES:código de Amor del ADN,Comprender tus emociones,Crea la Vida que quieres,equilibración mental,kinesiología emocional,kinesiología espiritual,liberación del estrés,memoria celular,propósito de vída,sabiduría espiritual,subconsciente,test muscular,transformando memorias del ADN,transgeneracional
ATTACH;FMTTYPE=image/jpeg:https://kineseryesencia.com/wp-content/uploads/2024/06/NinoenADNpequeno26jpg-e1718665956239.jpg
END:VEVENT
END:VCALENDAR