BEGIN:VCALENDAR
VERSION:2.0
PRODID:-//Desarrollo Personal-Conecta con tu esencia. Formación en kinesiología - ECPv6.15.20//NONSGML v1.0//EN
CALSCALE:GREGORIAN
METHOD:PUBLISH
X-ORIGINAL-URL:https://kineseryesencia.com
X-WR-CALDESC:Eventos para Desarrollo Personal-Conecta con tu esencia. Formación en kinesiología
REFRESH-INTERVAL;VALUE=DURATION:PT1H
X-Robots-Tag:noindex
X-PUBLISHED-TTL:PT1H
BEGIN:VTIMEZONE
TZID:UTC
BEGIN:STANDARD
TZOFFSETFROM:+0000
TZOFFSETTO:+0000
TZNAME:UTC
DTSTART:20220101T000000
END:STANDARD
END:VTIMEZONE
BEGIN:VEVENT
DTSTART;TZID=UTC:20230421T093000
DTEND;TZID=UTC:20230423T190000
DTSTAMP:20260421T144214
CREATED:20221002T182922Z
LAST-MODIFIED:20230109T121324Z
UID:15523-1682069400-1682276400@kineseryesencia.com
SUMMARY:Crea tus sueños con abundancia y sin excusas
DESCRIPTION:El contenido de este taller es la fusión de tres mini talleres monográficos de Kinesiología del Comportamiento y las Relaciones Humanas. \nCrea tus sueños y establece tus objetivos:  \nTrabajamos las herramientas necesarias para aprender a definir nuestros objetivos y sueños.  Para alcanzar cualquier objetivo antes tenemos que ser capaces de definirlo\, imaginarlo con todo tipo de detalles y vernos en esta nueva realidad. Descubrimos nuestra capacidad de conseguir todo lo que nos proponemos para materializar nuestros sueños y mantener la motivación para conseguirlo. Nuestros sueños son como la luz que nos guía en la oscuridad. \n ¿Tus objetivos son coherentes con los deseos de tu corazón y tu propósito de vida?  \nNo más excusas: \n¿Estás realmente enfocad@ en tus propios objetivos? ¿eres de las personas que se autosabotean\, poniéndose mil excusas para no conseguir sus objetivos? ¿Son estos objetivos coherentes con los deseos profundos de tu corazón\, tu propósito de vida?. Aprenderás a enfocarte y no ponerte más excusas\, ni justificarte ante ti ni ante nadie\, sobre todo en aquellos en los que te educaron. ¿Culpas a los demás de tus fracasos? ¿Luchas por lo que realmente quieres? \nAumentar los recursos y la abundancia: \nLa abundancia que tienes\, ¿es la que has escogido? No somos conscientes de lo que hemos creado ni tampoco como ni cuando y ahora no somos capaces de afrontar las consecuencias. Tenemos el poder de cambiarlo. Trabajaremos para atraer a nuestra vida aquello que somos capaces de imaginar para nosotros. Cada persona tiene sus propios recursos\, adquiridos en su herencia genética y a lo largo de su experiencia a través de su propia evolución. Nuestras quejas por la falta de abundancia son infundadas ya que tenemos la abundancia de lo que hemos creado. En realidad quizás no recordamos cuando ni como elegimos que clase de abundancia queríamos para nosotros pero lo hicimos y ahora hemos de enfrentarnos a sus consecuencias. Está en nuestras manos cambiar eso y vamos a hacerlo en este trabajo. Atraemos a nuestra vida aquello que somos capaces de imaginar para nosotros. No iremos más allá que lo que nos permitamos crear en nuestra imaginación.
URL:https://kineseryesencia.com/event/crea-tus-suenos-con-abundancia-y-sin-excusas/
LOCATION:Barcelona\, Zona Balmes/Madrazo\, Barcelona\, Barcelona\, 08017\, España
CATEGORIES:kinesiología emocional,liberación del estrés,memoria celular,memorias heredadas,propósito de vída,subconsciente,test muscular
ATTACH;FMTTYPE=image/jpeg:https://kineseryesencia.com/wp-content/uploads/2022/10/214392-3-e1664735028438.jpeg
ORGANIZER;CN="Teresa Mestres":MAILTO:teresamestres@gmail.com
END:VEVENT
END:VCALENDAR