BEGIN:VCALENDAR
VERSION:2.0
PRODID:-//Desarrollo Personal-Conecta con tu esencia. Formación en kinesiología - ECPv6.15.20//NONSGML v1.0//EN
CALSCALE:GREGORIAN
METHOD:PUBLISH
X-ORIGINAL-URL:https://kineseryesencia.com
X-WR-CALDESC:Eventos para Desarrollo Personal-Conecta con tu esencia. Formación en kinesiología
REFRESH-INTERVAL;VALUE=DURATION:PT1H
X-Robots-Tag:noindex
X-PUBLISHED-TTL:PT1H
BEGIN:VTIMEZONE
TZID:UTC
BEGIN:STANDARD
TZOFFSETFROM:+0000
TZOFFSETTO:+0000
TZNAME:UTC
DTSTART:20210101T000000
END:STANDARD
END:VTIMEZONE
BEGIN:VEVENT
DTSTART;TZID=UTC:20221125T160000
DTEND;TZID=UTC:20221127T200000
DTSTAMP:20260423T143614
CREATED:20201129T124419Z
LAST-MODIFIED:20221002T183821Z
UID:14582-1669392000-1669579200@kineseryesencia.com
SUMMARY:Habilidades para el cambio (Kinesiología del Comportamiento y las Relaciones Humanas)
DESCRIPTION:Aprender cómo la memoria del pasado puede estar condicionando el presente y creando nuestro futuro. Si eliminamos los traumas del pasado y reforzamos una imagen positiva futura\, tomaremos las elecciones que construirán lo que realmente queremos tener en nuestra vida. \nSe presentan elementos básicos del test muscular y de kinesiología como herramientas para evaluar el nivel de estrés y como eliminarlos. \nSe introduce el trabajo con las emociones de forma que permite definir con la máxima exactitud posible el estado emocional\, a nivel consciente\, subconsciente y memoria celular\, en una cuestión específica. \nSe desarrollan las bases de la kinesiología que trabaja el comportamiento y las relaciones humanas. \nRequisitos: Ninguno\nHoras lectivas (teoría + práctica): 210\nPrecio: 300€
URL:https://kineseryesencia.com/event/habilidades-para-el-cambio-kinesiologia-del-comportamiento-y-las-relaciones-humanas-2/
LOCATION:Barcelona\, Zona Balmes/Madrazo\, Barcelona\, Barcelona\, 08017\, España
CATEGORIES:kinesiología emocional,memoria celular,subconsciente
ATTACH;FMTTYPE=image/jpeg:https://kineseryesencia.com/wp-content/uploads/2019/09/awareness-2329671__340-e1664735882727.jpg
ORGANIZER;CN="Teresa Mestres":MAILTO:teresamestres@gmail.com
END:VEVENT
END:VCALENDAR